BEGIN:VCALENDAR
VERSION:2.0
PRODID:-//CuteCommunity - ECPv6.14.2//NONSGML v1.0//EN
CALSCALE:GREGORIAN
METHOD:PUBLISH
X-WR-CALNAME:CuteCommunity
X-ORIGINAL-URL:https://cute-community.com
X-WR-CALDESC:Events for CuteCommunity
REFRESH-INTERVAL;VALUE=DURATION:PT1H
X-Robots-Tag:noindex
X-PUBLISHED-TTL:PT1H
BEGIN:VTIMEZONE
TZID:Europe/Berlin
BEGIN:DAYLIGHT
TZOFFSETFROM:+0100
TZOFFSETTO:+0200
TZNAME:CEST
DTSTART:20250330T010000
END:DAYLIGHT
BEGIN:STANDARD
TZOFFSETFROM:+0200
TZOFFSETTO:+0100
TZNAME:CET
DTSTART:20251026T010000
END:STANDARD
END:VTIMEZONE
BEGIN:VEVENT
DTSTART;TZID=Europe/Berlin:20251127T190000
DTEND;TZID=Europe/Berlin:20251204T220000
DTSTAMP:20260425T181311
CREATED:20251123T193020Z
LAST-MODIFIED:20251123T193044Z
UID:1646-1764270000-1764885600@cute-community.com
SUMMARY:Cute Community Take Over IMMAQLATA
DESCRIPTION:Cute Community Takeover by IMMAQLATA \n„sanh xanh“: a bluetiful space to seize stories that breathe within.  \nsanh xanh is a Poetic Colorplay of Inbetween. Drawing from interconnected lived experiences as a diasporic Vietnamese in Germany\, IMMAQLATA expands to reworking textiles to question and reflect our origin in the present.  \n  \n„Threads between xanh“ is a playful take on discursive archiving that lives on by seizing and sharing stories that breathe within all of us. I wholeheartedly invite you to take up the space to hold more than one truth and genuinely connect by unlearning the immanent in between.  \n  \nLet’s explore\, trace back and build what we are looking for in between. \n  \nOpening hours :\nThursday to Thursday |  2 pm – 7 pm\nHerner Str. 9\, 44787 Bochum
URL:https://cute-community.com/events/cute-community-take-over-by-cosmic-dust-magazine-2/
LOCATION:Cute Community Space\, Hernerstr. 9\, Bochum\, NRW\, 44787\, Germany
CATEGORIES:Take Over
ATTACH;FMTTYPE=image/png:https://cute-community.com/wp-content/uploads/2025/11/CCT_webSITE_251127-scaled.png
ORGANIZER;CN="Cute Community":MAILTO:hello@cute-community.com
END:VEVENT
BEGIN:VEVENT
DTSTART;TZID=Europe/Berlin:20251203T193000
DTEND;TZID=Europe/Berlin:20251203T213000
DTSTAMP:20260425T181311
CREATED:20251006T193515Z
LAST-MODIFIED:20251006T193515Z
UID:1434-1764790200-1764797400@cute-community.com
SUMMARY:Cute Community Workshop
DESCRIPTION:DJ Controller with PVLM
URL:https://cute-community.com/events/cute-community-workshop-18/
LOCATION:Cute Community Space\, Hernerstr. 9\, Bochum\, NRW\, 44787\, Germany
CATEGORIES:Workshop
ATTACH;FMTTYPE=image/png:https://cute-community.com/wp-content/uploads/2025/04/CCW_Web.png
ORGANIZER;CN="Cute Community":MAILTO:hello@cute-community.com
END:VEVENT
BEGIN:VEVENT
DTSTART;TZID=Europe/Berlin:20251204T190000
DTEND;TZID=Europe/Berlin:20251204T220000
DTSTAMP:20260425T181311
CREATED:20251201T120827Z
LAST-MODIFIED:20251201T120901Z
UID:1661-1764874800-1764885600@cute-community.com
SUMMARY:Cute Community Radio
DESCRIPTION:7.00 – 8.00 PM | NOELIA FRIEDA\n8.00 – 9.00 PM | IAN ANDRIA\n9.00 – 10.00 PM | NINA MEDEA
URL:https://cute-community.com/events/1661/
LOCATION:Cute Community Space\, Hernerstr. 9\, Bochum\, NRW\, 44787\, Germany
CATEGORIES:DJ Set,Take Over
ATTACH;FMTTYPE=image/png:https://cute-community.com/wp-content/uploads/2025/12/CCR_Post_251204_Lineup-1-scaled.png
ORGANIZER;CN="Cute Community":MAILTO:hello@cute-community.com
END:VEVENT
BEGIN:VEVENT
DTSTART;TZID=Europe/Berlin:20251205T160000
DTEND;TZID=Europe/Berlin:20251205T200000
DTSTAMP:20260425T181311
CREATED:20251015T075747Z
LAST-MODIFIED:20251015T075747Z
UID:1537-1764950400-1764964800@cute-community.com
SUMMARY:Cute Community Laboratory
DESCRIPTION:book your individual 90min slot to experiment\, rehearse and practice your DJing skills!
URL:https://cute-community.com/events/cute-community-laboratory-18/
LOCATION:Cute Community Space\, Hernerstr. 9\, Bochum\, NRW\, 44787\, Germany
CATEGORIES:Laboratory
ATTACH;FMTTYPE=image/png:https://cute-community.com/wp-content/uploads/2025/04/CCL_Web.png
ORGANIZER;CN="Cute Community":MAILTO:hello@cute-community.com
END:VEVENT
BEGIN:VEVENT
DTSTART;TZID=Europe/Berlin:20251205T190000
DTEND;TZID=Europe/Berlin:20251205T220000
DTSTAMP:20260425T181311
CREATED:20251201T135111Z
LAST-MODIFIED:20251201T135111Z
UID:1667-1764961200-1764972000@cute-community.com
SUMMARY:Cute Community Radio
DESCRIPTION:7.30 – 8.30 PM | FINIBAGGIES\n8.30– 9.00 PM | MARNELE\n9.00 – 10.00 PM | GRETA PEROLA
URL:https://cute-community.com/events/cute-community-radio-27/
LOCATION:Cute Community Space\, Hernerstr. 9\, Bochum\, NRW\, 44787\, Germany
ATTACH;FMTTYPE=image/png:https://cute-community.com/wp-content/uploads/2025/12/1.png
ORGANIZER;CN="Cute Community":MAILTO:hello@cute-community.com
END:VEVENT
BEGIN:VEVENT
DTSTART;TZID=Europe/Berlin:20251210T193000
DTEND;TZID=Europe/Berlin:20251210T213000
DTSTAMP:20260425T181311
CREATED:20251015T104242Z
LAST-MODIFIED:20251015T104242Z
UID:1555-1765395000-1765402200@cute-community.com
SUMMARY:Cute Community Workshop (BIPOC FLINTA* ONLY)
DESCRIPTION:DJ Controller with Alias Shay 
URL:https://cute-community.com/events/cute-community-workshop-bipoc-flinta-only-3/
LOCATION:Cute Community Space\, Hernerstr. 9\, Bochum\, NRW\, 44787\, Germany
ORGANIZER;CN="Cute Community":MAILTO:hello@cute-community.com
END:VEVENT
BEGIN:VEVENT
DTSTART;TZID=Europe/Berlin:20251211T190000
DTEND;TZID=Europe/Berlin:20251211T220000
DTSTAMP:20260425T181311
CREATED:20251208T160000Z
LAST-MODIFIED:20251208T160000Z
UID:1699-1765479600-1765490400@cute-community.com
SUMMARY:Cute Community Radio
DESCRIPTION:7.00 – 8.00 PM | STELLA NYANZI\n8.00 – 9.00 PM | MOYO RAY\n9.00 – 10.00 PM | TRANSATLANTIC BOUNCE
URL:https://cute-community.com/events/cute-community-radio-28/
LOCATION:Cute Community Space\, Hernerstr. 9\, Bochum\, NRW\, 44787\, Germany
CATEGORIES:DJ Set,Take Over
ATTACH;FMTTYPE=image/png:https://cute-community.com/wp-content/uploads/2025/12/CCR_Post_251211_Lineup-scaled.png
ORGANIZER;CN="Cute Community":MAILTO:hello@cute-community.com
END:VEVENT
BEGIN:VEVENT
DTSTART;TZID=Europe/Berlin:20251211T190000
DTEND;TZID=Europe/Berlin:20251218T220000
DTSTAMP:20260425T181311
CREATED:20251210T004748Z
LAST-MODIFIED:20251212T000441Z
UID:1695-1765479600-1766095200@cute-community.com
SUMMARY:Cute Community Take Over Davenportbooks
DESCRIPTION:For one weeks\, Davenport Books takes over Bochum with a focus on English-language writing made in Germany. The pop-up celebrates writers\, thinkers\, and musicians for whom English is not a translation but a living space — a language of creation\, encounter\, and dissent. \nThe program unfolds across two public events: \n• English as Disruption: A Different Mother Tongue — on how English unsettles Germany’s literary order and redefines \nbelonging.With a reading and discussion by Stella Nyanzi\, live music by singer-songwriter Moyo Ray\, and a DJ set by Transatlantic \nBounce. \n• English as Dissent: A Second Language as Witness—on English as the language of recognition\, refusal\, and truth-telling. With a conversation between Peggy Kurka and Lubi Barre. \nA special book curation by Davenport Books accompanies the takeover\, inviting visitors to browse\, read\, and linger. Each shelf is assembled to echo the larger question of the project — what it means to write\, think\, and dream in English from within Germany. \nOpening hours :\nThursday to Thursday |  2 pm – 7 pm\nHerner Str. 9\, 44787 Bochum
URL:https://cute-community.com/events/cute-community-take-over-davenportbooks/
LOCATION:Cute Community Space\, Hernerstr. 9\, Bochum\, NRW\, 44787\, Germany
ATTACH;FMTTYPE=image/png:https://cute-community.com/wp-content/uploads/2025/12/davenportbooks-scaled.png
ORGANIZER;CN="Cute Community":MAILTO:hello@cute-community.com
END:VEVENT
BEGIN:VEVENT
DTSTART;TZID=Europe/Berlin:20251212T160000
DTEND;TZID=Europe/Berlin:20251212T200000
DTSTAMP:20260425T181311
CREATED:20251015T080044Z
LAST-MODIFIED:20251015T080044Z
UID:1542-1765555200-1765569600@cute-community.com
SUMMARY:Cute Community Laboratory
DESCRIPTION:book your individual 90min slot to experiment\, rehearse and practice your DJing skills!
URL:https://cute-community.com/events/cute-community-laboratory-19/
LOCATION:Cute Community Space\, Hernerstr. 9\, Bochum\, NRW\, 44787\, Germany
CATEGORIES:Laboratory
ATTACH;FMTTYPE=image/png:https://cute-community.com/wp-content/uploads/2025/04/CCL_Web.png
ORGANIZER;CN="Cute Community":MAILTO:hello@cute-community.com
END:VEVENT
BEGIN:VEVENT
DTSTART;TZID=Europe/Berlin:20251217T193000
DTEND;TZID=Europe/Berlin:20251217T213000
DTSTAMP:20260425T181311
CREATED:20251006T193911Z
LAST-MODIFIED:20251006T193911Z
UID:1437-1765999800-1766007000@cute-community.com
SUMMARY:Cute Community Workshop
DESCRIPTION:CDJ Players with ADJO (Beginners)
URL:https://cute-community.com/events/cute-community-workshop-19/
LOCATION:Cute Community Space\, Hernerstr. 9\, Bochum\, NRW\, 44787\, Germany
CATEGORIES:Workshop
ATTACH;FMTTYPE=image/png:https://cute-community.com/wp-content/uploads/2025/04/CCW_Web.png
ORGANIZER;CN="Cute Community":MAILTO:hello@cute-community.com
END:VEVENT
BEGIN:VEVENT
DTSTART;TZID=Europe/Berlin:20251218T190000
DTEND;TZID=Europe/Berlin:20251218T220000
DTSTAMP:20260425T181311
CREATED:20251214T205914Z
LAST-MODIFIED:20251214T205914Z
UID:1714-1766084400-1766095200@cute-community.com
SUMMARY:Cute Community Radio
DESCRIPTION:7.00 – 8.00 PM | PEGGY KURKA\n8.00 – 9.00 PM | ADJO\n9.00 – 10.00 PM | PVLM
URL:https://cute-community.com/events/cute-community-radio-29/
LOCATION:Cute Community Space\, Hernerstr. 9\, Bochum\, NRW\, 44787\, Germany
CATEGORIES:DJ Set,Take Over
ATTACH;FMTTYPE=image/png:https://cute-community.com/wp-content/uploads/2025/12/CCR_Post_251218_Lineup-scaled.png
ORGANIZER;CN="Cute Community":MAILTO:hello@cute-community.com
END:VEVENT
BEGIN:VEVENT
DTSTART;TZID=Europe/Berlin:20251219T160000
DTEND;TZID=Europe/Berlin:20251219T200000
DTSTAMP:20260425T181311
CREATED:20251015T080332Z
LAST-MODIFIED:20251015T080332Z
UID:1546-1766160000-1766174400@cute-community.com
SUMMARY:Cute Community Laboratory
DESCRIPTION:book your individual 90min slot to experiment\, rehearse and practice your DJing skills!
URL:https://cute-community.com/events/cute-community-laboratory-20/
LOCATION:Cute Community Space\, Hernerstr. 9\, Bochum\, NRW\, 44787\, Germany
CATEGORIES:Laboratory
ATTACH;FMTTYPE=image/png:https://cute-community.com/wp-content/uploads/2025/04/CCL_Web.png
ORGANIZER;CN="Cute Community":MAILTO:hello@cute-community.com
END:VEVENT
END:VCALENDAR