BEGIN:VCALENDAR
VERSION:2.0
PRODID:-//CuteCommunity - ECPv6.14.2//NONSGML v1.0//EN
CALSCALE:GREGORIAN
METHOD:PUBLISH
X-WR-CALNAME:CuteCommunity
X-ORIGINAL-URL:https://cute-community.com
X-WR-CALDESC:Events for CuteCommunity
REFRESH-INTERVAL;VALUE=DURATION:PT1H
X-Robots-Tag:noindex
X-PUBLISHED-TTL:PT1H
BEGIN:VTIMEZONE
TZID:Europe/Berlin
BEGIN:DAYLIGHT
TZOFFSETFROM:+0100
TZOFFSETTO:+0200
TZNAME:CEST
DTSTART:20250330T010000
END:DAYLIGHT
BEGIN:STANDARD
TZOFFSETFROM:+0200
TZOFFSETTO:+0100
TZNAME:CET
DTSTART:20251026T010000
END:STANDARD
END:VTIMEZONE
BEGIN:VEVENT
DTSTART;TZID=Europe/Berlin:20251105T193000
DTEND;TZID=Europe/Berlin:20251105T213000
DTSTAMP:20260425T193716
CREATED:20251006T192949Z
LAST-MODIFIED:20251006T192949Z
UID:1431-1762371000-1762378200@cute-community.com
SUMMARY:Cute Community Workshop
DESCRIPTION:CDJ Players with ADJO (Beginners)
URL:https://cute-community.com/events/cute-community-workshop-17/
LOCATION:Cute Community Space\, Hernerstr. 9\, Bochum\, NRW\, 44787\, Germany
CATEGORIES:Workshop
ATTACH;FMTTYPE=image/png:https://cute-community.com/wp-content/uploads/2025/04/CCW_Web.png
ORGANIZER;CN="Cute Community":MAILTO:hello@cute-community.com
END:VEVENT
BEGIN:VEVENT
DTSTART;TZID=Europe/Berlin:20251106T190000
DTEND;TZID=Europe/Berlin:20251106T220000
DTSTAMP:20260425T193716
CREATED:20251102T102057Z
LAST-MODIFIED:20251102T102057Z
UID:1600-1762455600-1762466400@cute-community.com
SUMMARY:Cute Community Radio
DESCRIPTION:7.00 – 8.00 PM | RUBIMENTAL\n8.00 – 9.00 PM | SUJAZZ\n9.00 – 10.00 PM | POULHO
URL:https://cute-community.com/events/cute-community-radio-24/
LOCATION:Cute Community Space\, Hernerstr. 9\, Bochum\, NRW\, 44787\, Germany
CATEGORIES:DJ Set,Take Over
ATTACH;FMTTYPE=image/png:https://cute-community.com/wp-content/uploads/2025/11/CCR_Post_251106_Lineup-scaled.png
ORGANIZER;CN="Cute Community":MAILTO:hello@cute-community.com
END:VEVENT
BEGIN:VEVENT
DTSTART;TZID=Europe/Berlin:20251106T190000
DTEND;TZID=Europe/Berlin:20251113T220000
DTSTAMP:20260425T193716
CREATED:20251103T101303Z
LAST-MODIFIED:20251103T101303Z
UID:1605-1762455600-1763071200@cute-community.com
SUMMARY:Cute Community Take Over by Cosmic Dust Magazine
DESCRIPTION:Cute Community Takeover by Cosmic Dust Magazine \nThe exhibition Future Beats & All That Jazz curated by Cosmic Dust Magazine opens with a night that brings the sound of the project to life. For the opening\, Rubimental\, Sujazz\, and Poulho present their own interpretations of the Future Beats universe. \n  \nOpening – November 6\n\n\nLineup:  \nRubimental 07.00 – 08.00 \nSujazz 08.00 – 09.00 \nPoulho 09.00 – 10.00 \n\n\n\nOpening hours of Exhibition:\nThursday to Thursday |  2 pm – 7 pm\nHerner Str. 9\, 44787 Bochum
URL:https://cute-community.com/events/cute-community-take-over-by-cosmic-dust-magazine/
LOCATION:Cute Community Space\, Hernerstr. 9\, Bochum\, NRW\, 44787\, Germany
CATEGORIES:Take Over
ATTACH;FMTTYPE=image/png:https://cute-community.com/wp-content/uploads/2025/11/CCT_251106_Cosmic-Dust-Magazine-scaled.png
ORGANIZER;CN="Cute Community":MAILTO:hello@cute-community.com
END:VEVENT
BEGIN:VEVENT
DTSTART;TZID=Europe/Berlin:20251107T160000
DTEND;TZID=Europe/Berlin:20251107T200000
DTSTAMP:20260425T193716
CREATED:20251006T204917Z
LAST-MODIFIED:20251015T074114Z
UID:1455-1762531200-1762545600@cute-community.com
SUMMARY:Cute Community Laboratory
DESCRIPTION:book your individual 90min slot to experiment\, rehearse and practice your DJing skills!
URL:https://cute-community.com/events/cute-community-laboratory-14/
LOCATION:Cute Community Space\, Hernerstr. 9\, Bochum\, NRW\, 44787\, Germany
CATEGORIES:Laboratory
ATTACH;FMTTYPE=image/png:https://cute-community.com/wp-content/uploads/2025/04/CCL_Web.png
ORGANIZER;CN="Cute Community":MAILTO:hello@cute-community.com
END:VEVENT
BEGIN:VEVENT
DTSTART;TZID=Europe/Berlin:20251113T190000
DTEND;TZID=Europe/Berlin:20251113T220000
DTSTAMP:20260425T193716
CREATED:20251108T152458Z
LAST-MODIFIED:20251108T152458Z
UID:1614-1763060400-1763071200@cute-community.com
SUMMARY:Cute Community Radio
DESCRIPTION:7.00 – 8.00 PM | PVLM\n8.00 – 9.00 PM | SICSTYLE\n9.00 – 10.00 PM | POULHO
URL:https://cute-community.com/events/cute-community-radio-25/
LOCATION:Cute Community Space\, Hernerstr. 9\, Bochum\, NRW\, 44787\, Germany
CATEGORIES:DJ Session,DJ Set,Take Over
ATTACH;FMTTYPE=image/png:https://cute-community.com/wp-content/uploads/2025/11/CCR_Post_251113_Lineup-scaled.png
ORGANIZER;CN="Cute Community":MAILTO:hello@cute-community.com
END:VEVENT
BEGIN:VEVENT
DTSTART;TZID=Europe/Berlin:20251114T160000
DTEND;TZID=Europe/Berlin:20251114T200000
DTSTAMP:20260425T193716
CREATED:20251006T205329Z
LAST-MODIFIED:20251015T074208Z
UID:1459-1763136000-1763150400@cute-community.com
SUMMARY:Cute Community Laboratory
DESCRIPTION:book your individual 90min slot to experiment\, rehearse and practice your DJing skills!
URL:https://cute-community.com/events/cute-community-laboratory-15/
LOCATION:Cute Community Space\, Hernerstr. 9\, Bochum\, NRW\, 44787\, Germany
CATEGORIES:Laboratory
ATTACH;FMTTYPE=image/png:https://cute-community.com/wp-content/uploads/2025/04/CCL_Web.png
ORGANIZER;CN="Cute Community":MAILTO:hello@cute-community.com
END:VEVENT
BEGIN:VEVENT
DTSTART;TZID=Europe/Berlin:20251119T193000
DTEND;TZID=Europe/Berlin:20251119T213000
DTSTAMP:20260425T193716
CREATED:20251015T081943Z
LAST-MODIFIED:20251015T081943Z
UID:1550-1763580600-1763587800@cute-community.com
SUMMARY:Cute Community Workshop (BIPOC FLINTA* ONLY)
DESCRIPTION:DJ Controller with Alias Shay 
URL:https://cute-community.com/events/cute-community-workshop-bipoc-flinta-only-2/
LOCATION:Cute Community Space\, Hernerstr. 9\, Bochum\, NRW\, 44787\, Germany
CATEGORIES:Workshop
ATTACH;FMTTYPE=image/png:https://cute-community.com/wp-content/uploads/2025/04/CCW_Web.png
ORGANIZER;CN="Cute Community":MAILTO:hello@cute-community.com
END:VEVENT
BEGIN:VEVENT
DTSTART;TZID=Europe/Berlin:20251120T190000
DTEND;TZID=Europe/Berlin:20251120T220000
DTSTAMP:20260425T193716
CREATED:20251214T210255Z
LAST-MODIFIED:20251214T210255Z
UID:1717-1763665200-1763676000@cute-community.com
SUMMARY:Cute Community Radio
DESCRIPTION:7.00 – 8.00 PM | SOLEIL\n8.00 – 9.00 PM | SOULROC\n9.00 – 10.00 PM | HAO
URL:https://cute-community.com/events/cute-community-radio-30/
LOCATION:Cute Community Space\, Hernerstr. 9\, Bochum\, NRW\, 44787\, Germany
CATEGORIES:DJ Set
ATTACH;FMTTYPE=image/png:https://cute-community.com/wp-content/uploads/2025/12/CCR_Post_251120_Lineup-scaled.png
ORGANIZER;CN="Cute Community":MAILTO:hello@cute-community.com
END:VEVENT
BEGIN:VEVENT
DTSTART;TZID=Europe/Berlin:20251121T160000
DTEND;TZID=Europe/Berlin:20251121T200000
DTSTAMP:20260425T193716
CREATED:20251006T210432Z
LAST-MODIFIED:20251015T074302Z
UID:1464-1763740800-1763755200@cute-community.com
SUMMARY:Cute Community Laboratory
DESCRIPTION:book your individual 90min slot to experiment\, rehearse and practice your DJing skills!
URL:https://cute-community.com/events/cute-community-laboratory-16/
LOCATION:Cute Community Space\, Hernerstr. 9\, Bochum\, NRW\, 44787\, Germany
CATEGORIES:Laboratory
ATTACH;FMTTYPE=image/png:https://cute-community.com/wp-content/uploads/2025/04/CCL_Web.png
ORGANIZER;CN="Cute Community":MAILTO:hello@cute-community.com
END:VEVENT
BEGIN:VEVENT
DTSTART;TZID=Europe/Berlin:20251126T193000
DTEND;TZID=Europe/Berlin:20251126T213000
DTSTAMP:20260425T193716
CREATED:20251015T073403Z
LAST-MODIFIED:20251015T073432Z
UID:1522-1764185400-1764192600@cute-community.com
SUMMARY:Cute Community Workshop
DESCRIPTION:CDJ Players with Frau Beji (Advanced)
URL:https://cute-community.com/events/cute-community-workshop-21/
LOCATION:Cute Community Space\, Hernerstr. 9\, Bochum\, NRW\, 44787\, Germany
CATEGORIES:Workshop
ATTACH;FMTTYPE=image/png:https://cute-community.com/wp-content/uploads/2025/04/CCW_Web.png
ORGANIZER;CN="Cute Community":MAILTO:hello@cute-community.com
END:VEVENT
BEGIN:VEVENT
DTSTART;TZID=Europe/Berlin:20251127T190000
DTEND;TZID=Europe/Berlin:20251127T220000
DTSTAMP:20260425T193716
CREATED:20251123T193350Z
LAST-MODIFIED:20251123T193409Z
UID:1650-1764270000-1764280800@cute-community.com
SUMMARY:Cute Community Radio
DESCRIPTION:7.00 – 8.00 PM | IMMAQLATA\n8.00 – 9.00 PM | LAM\n9.00 – 10.00 PM | UPDEL
URL:https://cute-community.com/events/cute-community-radio-26/
LOCATION:Cute Community Space\, Hernerstr. 9\, Bochum\, NRW\, 44787\, Germany
CATEGORIES:DJ Set,Take Over
ATTACH;FMTTYPE=image/png:https://cute-community.com/wp-content/uploads/2025/11/CCR_Post_251127_Lineup-scaled.png
ORGANIZER;CN="Cute Community":MAILTO:hello@cute-community.com
END:VEVENT
BEGIN:VEVENT
DTSTART;TZID=Europe/Berlin:20251127T190000
DTEND;TZID=Europe/Berlin:20251204T220000
DTSTAMP:20260425T193716
CREATED:20251123T193020Z
LAST-MODIFIED:20251123T193044Z
UID:1646-1764270000-1764885600@cute-community.com
SUMMARY:Cute Community Take Over IMMAQLATA
DESCRIPTION:Cute Community Takeover by IMMAQLATA \n„sanh xanh“: a bluetiful space to seize stories that breathe within.  \nsanh xanh is a Poetic Colorplay of Inbetween. Drawing from interconnected lived experiences as a diasporic Vietnamese in Germany\, IMMAQLATA expands to reworking textiles to question and reflect our origin in the present.  \n  \n„Threads between xanh“ is a playful take on discursive archiving that lives on by seizing and sharing stories that breathe within all of us. I wholeheartedly invite you to take up the space to hold more than one truth and genuinely connect by unlearning the immanent in between.  \n  \nLet’s explore\, trace back and build what we are looking for in between. \n  \nOpening hours :\nThursday to Thursday |  2 pm – 7 pm\nHerner Str. 9\, 44787 Bochum
URL:https://cute-community.com/events/cute-community-take-over-by-cosmic-dust-magazine-2/
LOCATION:Cute Community Space\, Hernerstr. 9\, Bochum\, NRW\, 44787\, Germany
CATEGORIES:Take Over
ATTACH;FMTTYPE=image/png:https://cute-community.com/wp-content/uploads/2025/11/CCT_webSITE_251127-scaled.png
ORGANIZER;CN="Cute Community":MAILTO:hello@cute-community.com
END:VEVENT
BEGIN:VEVENT
DTSTART;TZID=Europe/Berlin:20251128T160000
DTEND;TZID=Europe/Berlin:20251128T200000
DTSTAMP:20260425T193716
CREATED:20251006T211141Z
LAST-MODIFIED:20251006T211141Z
UID:1469-1764345600-1764360000@cute-community.com
SUMMARY:Cute Community Laboratory
DESCRIPTION:book your individual 90min slot to experiment\, rehearse and practice your DJing skills!
URL:https://cute-community.com/events/cute-community-laboratory-17/
LOCATION:Cute Community Space\, Hernerstr. 9\, Bochum\, NRW\, 44787\, Germany
CATEGORIES:Laboratory
ATTACH;FMTTYPE=image/png:https://cute-community.com/wp-content/uploads/2025/04/CCL_Web.png
ORGANIZER;CN="Cute Community":MAILTO:hello@cute-community.com
END:VEVENT
END:VCALENDAR