BEGIN:VCALENDAR
VERSION:2.0
PRODID:-//CuteCommunity - ECPv6.14.2//NONSGML v1.0//EN
CALSCALE:GREGORIAN
METHOD:PUBLISH
X-WR-CALNAME:CuteCommunity
X-ORIGINAL-URL:https://cute-community.com
X-WR-CALDESC:Events for CuteCommunity
REFRESH-INTERVAL;VALUE=DURATION:PT1H
X-Robots-Tag:noindex
X-PUBLISHED-TTL:PT1H
BEGIN:VTIMEZONE
TZID:Europe/Berlin
BEGIN:DAYLIGHT
TZOFFSETFROM:+0100
TZOFFSETTO:+0200
TZNAME:CEST
DTSTART:20250330T010000
END:DAYLIGHT
BEGIN:STANDARD
TZOFFSETFROM:+0200
TZOFFSETTO:+0100
TZNAME:CET
DTSTART:20251026T010000
END:STANDARD
END:VTIMEZONE
BEGIN:VEVENT
DTSTART;TZID=Europe/Berlin:20250925T190000
DTEND;TZID=Europe/Berlin:20251002T190000
DTSTAMP:20260425T181239
CREATED:20251007T164000Z
LAST-MODIFIED:20251007T164057Z
UID:1489-1758826800-1759431600@cute-community.com
SUMMARY:Cute Community Take Over by Vertigo Lab
DESCRIPTION:CUTE COMMUNITY TAKE OVER \n“Vertigo Lab: A Place without Direction” – In the bustling world of streetwear\, our brand\, Vertigo Lab\, defies conformity and embraces the exhilarating chaos of creativity. Our motto\, “A Place without Direction\,” encapsulates the spirit of our brand\, where fashion isn’t confined by predefined routes. \nWe invite you to get lost in the labyrinth of our designs\, where every garment is a unique journey and a canvas for self-expression. Break free from the ordinary\, let your style wander\, and find your own path in the urban maze of individuality. \nOpening – September 25\nfrom 7 pm with Vertigo\, Mr.Vee and Chineegro\n\n\n\nClosing – October 2\nfrom 7 pm with Makayabundo\, Mel Olori\, Keisha\n\n\n  \nOpening hours of Exhibition:\nFriday to Thursday |  2 pm – 7 pm\nHerner Str. 9\, 44787 Bochum
URL:https://cute-community.com/events/cute-community-take-over-by-vertigo-lab/
LOCATION:Cute Community Space\, Hernerstr. 9\, Bochum\, NRW\, 44787\, Germany
CATEGORIES:Take Over
ATTACH;FMTTYPE=image/png:https://cute-community.com/wp-content/uploads/2025/10/CCT_VERTIGOLAB-14-scaled.png
ORGANIZER;CN="Cute Community":MAILTO:hello@cute-community.com
END:VEVENT
BEGIN:VEVENT
DTSTART;TZID=Europe/Berlin:20251002T190000
DTEND;TZID=Europe/Berlin:20251002T220000
DTSTAMP:20260425T181239
CREATED:20250929T082625Z
LAST-MODIFIED:20251002T141121Z
UID:1400-1759431600-1759442400@cute-community.com
SUMMARY:Cute Community Radio
DESCRIPTION:7.00 – 8.00 PM |  MAKAYABUNDO\n8.00 – 9.00 PM |MEL OLORI\n9.00 – 10.00PM | KEISHA
URL:https://cute-community.com/events/cute-community-radio-19/
LOCATION:Cute Community Space\, Hernerstr. 9\, Bochum\, NRW\, 44787\, Germany
CATEGORIES:DJ Set,Take Over
ATTACH;FMTTYPE=image/png:https://cute-community.com/wp-content/uploads/2025/10/CCT_Post_251002_Lineup.EDITED-17-scaled.png
ORGANIZER;CN="Cute Community":MAILTO:hello@cute-community.com
END:VEVENT
BEGIN:VEVENT
DTSTART;TZID=Europe/Berlin:20251009T190000
DTEND;TZID=Europe/Berlin:20251009T220000
DTSTAMP:20260425T181239
CREATED:20251006T133622Z
LAST-MODIFIED:20251006T133622Z
UID:1410-1760036400-1760047200@cute-community.com
SUMMARY:Cute Community Radio
DESCRIPTION:7.00 – 8.00 PM |  DOWN TOWN HABIBA BROWN\n8.00 – 9.00 PM |RUBIMENTAL\n9.00 – 10.00PM | ROMI
URL:https://cute-community.com/events/cute-community-radio-20/
LOCATION:NRW
CATEGORIES:DJ Set
ATTACH;FMTTYPE=image/png:https://cute-community.com/wp-content/uploads/2025/10/CCR_Post_251009_Lineup-scaled.png
END:VEVENT
BEGIN:VEVENT
DTSTART;TZID=Europe/Berlin:20251016T190000
DTEND;TZID=Europe/Berlin:20251016T220000
DTSTAMP:20260425T181239
CREATED:20251012T190503Z
LAST-MODIFIED:20251012T190503Z
UID:1498-1760641200-1760652000@cute-community.com
SUMMARY:Cute Community Radio
DESCRIPTION:7.00 – 8.00 PM | THE. METAPHASE\n8.00 – 9.00 PM | VJ VIJI\n9.00 – 10.00PM | $HAMAZING
URL:https://cute-community.com/events/cute-community-radio-21/
LOCATION:Cute Community Space\, Hernerstr. 9\, Bochum\, NRW\, 44787\, Germany
CATEGORIES:DJ Set,Take Over
ATTACH;FMTTYPE=image/png:https://cute-community.com/wp-content/uploads/2025/10/CCR_Post_251016_LINEUP-scaled.png
ORGANIZER;CN="Cute Community":MAILTO:hello@cute-community.com
END:VEVENT
BEGIN:VEVENT
DTSTART;TZID=Europe/Berlin:20251016T190000
DTEND;TZID=Europe/Berlin:20251023T220000
DTSTAMP:20260425T181239
CREATED:20251013T072520Z
LAST-MODIFIED:20251013T072520Z
UID:1506-1760641200-1761256800@cute-community.com
SUMMARY:Cute Community Take Over by THE. METAPHASE
DESCRIPTION:Cute Community Takeover \nTHE. METAPHASE by Viji Umuderi \n  \nTHE. METAPHASE is a visionary creative platform founded by Viji Umuderi — a platform where fashion\, music\, and visual art merge into one transformative experience. Rooted in the idea of alignment and evolution. \n  \nTHE. METAPHASE explores the space between transformation and creation — where art becomes a living process\, and every sound or image reflects collective growth and cultural futurism. \n  \nWe are the moment between chaos and creation — A COLLECTIVE IN A MOTION. \n#process&progress \nOpening – October 16\nfrom 7 pm with : Cute Community Talk : The. Metaphase \,  VJ VIJI\, $HAMAZING\n\n\nOpening hours of Exhibition:\nThursday to Thursday |  2 pm – 7 pm\nHerner Str. 9\, 44787 Bochum\n\n\n  \n\n 
URL:https://cute-community.com/events/cute-community-take-over-by-the-metaphase/
LOCATION:Cute Community Space\, Hernerstr. 9\, Bochum\, NRW\, 44787\, Germany
CATEGORIES:DJ-Set,Take Over
ATTACH;FMTTYPE=image/png:https://cute-community.com/wp-content/uploads/2025/10/CTT_251016_THE.-METAPHASE-10-scaled.png
ORGANIZER;CN="Cute Community":MAILTO:hello@cute-community.com
END:VEVENT
BEGIN:VEVENT
DTSTART;TZID=Europe/Berlin:20251017T160000
DTEND;TZID=Europe/Berlin:20251017T200000
DTSTAMP:20260425T181239
CREATED:20251006T200153Z
LAST-MODIFIED:20251006T200153Z
UID:1440-1760716800-1760731200@cute-community.com
SUMMARY:Cute Community Laboratory
DESCRIPTION:book your individual 90min slot to experiment\, rehearse and practice your DJing skills!
URL:https://cute-community.com/events/cute-community-laboratory-11/
LOCATION:Cute Community Space\, Hernerstr. 9\, Bochum\, NRW\, 44787\, Germany
CATEGORIES:Laboratory
ATTACH;FMTTYPE=image/png:https://cute-community.com/wp-content/uploads/2025/04/CCL_Web.png
ORGANIZER;CN="Cute Community":MAILTO:hello@cute-community.com
END:VEVENT
BEGIN:VEVENT
DTSTART;TZID=Europe/Berlin:20251022T193000
DTEND;TZID=Europe/Berlin:20251022T213000
DTSTAMP:20260425T181239
CREATED:20251006T192236Z
LAST-MODIFIED:20251006T192236Z
UID:1427-1761161400-1761168600@cute-community.com
SUMMARY:Cute Community Workshop
DESCRIPTION:DJ Controller with PVLM
URL:https://cute-community.com/events/cute-community-workshop-16/
LOCATION:Cute Community Space\, Hernerstr. 9\, Bochum\, NRW\, 44787\, Germany
CATEGORIES:Workshop
ATTACH;FMTTYPE=image/png:https://cute-community.com/wp-content/uploads/2025/04/CCW_Web.png
ORGANIZER;CN="Cute Community":MAILTO:hello@cute-community.com
END:VEVENT
BEGIN:VEVENT
DTSTART;TZID=Europe/Berlin:20251023T190000
DTEND;TZID=Europe/Berlin:20251023T220000
DTSTAMP:20260425T181239
CREATED:20251021T140553Z
LAST-MODIFIED:20251021T140553Z
UID:1570-1761246000-1761256800@cute-community.com
SUMMARY:Cute Community Radio
DESCRIPTION:7.00 – 8.00 PM | CC TALK WITH MEDUULLA\n8.00 – 9.00 PM | ETHAN HILL\n9.00 – 10.00PM | MEDUULLA
URL:https://cute-community.com/events/cute-community-radio-22/
LOCATION:Cute Community Space\, Hernerstr. 9\, Bochum\, NRW\, 44787\, Germany
CATEGORIES:DJ Set,Take Over
ATTACH;FMTTYPE=image/png:https://cute-community.com/wp-content/uploads/2025/10/CCR_Post_251023_Lineup-scaled.png
ORGANIZER;CN="Cute Community":MAILTO:hello@cute-community.com
END:VEVENT
BEGIN:VEVENT
DTSTART;TZID=Europe/Berlin:20251024T160000
DTEND;TZID=Europe/Berlin:20251024T200000
DTSTAMP:20260425T181239
CREATED:20251006T200837Z
LAST-MODIFIED:20251006T200837Z
UID:1445-1761321600-1761336000@cute-community.com
SUMMARY:Cute Community Laboratory
DESCRIPTION:book your individual 90min slot to experiment\, rehearse and practice your DJing skills!
URL:https://cute-community.com/events/cute-community-laboratory-12/
LOCATION:Cute Community Space\, Hernerstr. 9\, Bochum\, NRW\, 44787\, Germany
CATEGORIES:Laboratory
ATTACH;FMTTYPE=image/png:https://cute-community.com/wp-content/uploads/2025/04/CCL_Web.png
ORGANIZER;CN="Cute Community":MAILTO:hello@cute-community.com
END:VEVENT
BEGIN:VEVENT
DTSTART;TZID=Europe/Berlin:20251025T200000
DTEND;TZID=Europe/Berlin:20251026T000000
DTSTAMP:20260425T181239
CREATED:20251006T140312Z
LAST-MODIFIED:20251006T190007Z
UID:1417-1761422400-1761436800@cute-community.com
SUMMARY:Cute Community Club
DESCRIPTION:GYN_TERRE \nADJO \nMEDUULLA (LIVE) \nSNDYVIBES \n 
URL:https://cute-community.com/events/cute-community-club-5/
LOCATION:Rathaus Bochum\, Willy-Brandt-Platz\, Bochum\, 44777\, Germany
ATTACH;FMTTYPE=image/png:https://cute-community.com/wp-content/uploads/2025/10/CCC_251025-14-1-scaled.png
ORGANIZER;CN="Cute Community":MAILTO:hello@cute-community.com
END:VEVENT
BEGIN:VEVENT
DTSTART;TZID=Europe/Berlin:20251029T193000
DTEND;TZID=Europe/Berlin:20251029T213000
DTSTAMP:20260425T181239
CREATED:20251015T072959Z
LAST-MODIFIED:20251015T072959Z
UID:1518-1761766200-1761773400@cute-community.com
SUMMARY:Cute Community Workshop
DESCRIPTION:CDJ Players with Frau Beji (Advanced)
URL:https://cute-community.com/events/cute-community-workshop-20/
LOCATION:Cute Community Space\, Hernerstr. 9\, Bochum\, NRW\, 44787\, Germany
CATEGORIES:Workshop
ATTACH;FMTTYPE=image/png:https://cute-community.com/wp-content/uploads/2025/04/CCW_Web.png
ORGANIZER;CN="Cute Community":MAILTO:hello@cute-community.com
END:VEVENT
BEGIN:VEVENT
DTSTART;TZID=Europe/Berlin:20251030T200000
DTEND;TZID=Europe/Berlin:20251030T234500
DTSTAMP:20260425T181239
CREATED:20251027T152110Z
LAST-MODIFIED:20251027T152322Z
UID:1582-1761854400-1761867900@cute-community.com
SUMMARY:Cute Community Radio
DESCRIPTION:8.00 – 9.00 PM | FINIBAGGIES\n9.00 – 10.00 PM | OTIS MENSAH\n10.00 – 11.45 PM | CHADEE
URL:https://cute-community.com/events/cute-community-radio-23/
LOCATION:Museum Folkwang\, Museumsplatz 1\, Essen\, 45128\, Germany
CATEGORIES:DJ Set,Hangout
ATTACH;FMTTYPE=image/png:https://cute-community.com/wp-content/uploads/2025/10/CCR_Post_251030_Lineup-scaled.png
ORGANIZER;CN="Cute Community":MAILTO:hello@cute-community.com
END:VEVENT
BEGIN:VEVENT
DTSTART;TZID=Europe/Berlin:20251031T160000
DTEND;TZID=Europe/Berlin:20251031T200000
DTSTAMP:20260425T181239
CREATED:20251006T202400Z
LAST-MODIFIED:20251006T202400Z
UID:1451-1761926400-1761940800@cute-community.com
SUMMARY:Cute Community Laboratory
DESCRIPTION:book your individual 90min slot to experiment\, rehearse and practice your DJing skills!
URL:https://cute-community.com/events/cute-community-laboratory-13/
LOCATION:Cute Community Space\, Hernerstr. 9\, Bochum\, NRW\, 44787\, Germany
CATEGORIES:Laboratory
ATTACH;FMTTYPE=image/png:https://cute-community.com/wp-content/uploads/2025/04/CCL_Web.png
ORGANIZER;CN="Cute Community":MAILTO:hello@cute-community.com
END:VEVENT
END:VCALENDAR