BEGIN:VCALENDAR
VERSION:2.0
PRODID:-//CuteCommunity - ECPv6.14.2//NONSGML v1.0//EN
CALSCALE:GREGORIAN
METHOD:PUBLISH
X-ORIGINAL-URL:https://cute-community.com
X-WR-CALDESC:Events for CuteCommunity
REFRESH-INTERVAL;VALUE=DURATION:PT1H
X-Robots-Tag:noindex
X-PUBLISHED-TTL:PT1H
BEGIN:VTIMEZONE
TZID:Europe/Berlin
BEGIN:DAYLIGHT
TZOFFSETFROM:+0100
TZOFFSETTO:+0200
TZNAME:CEST
DTSTART:20250330T010000
END:DAYLIGHT
BEGIN:STANDARD
TZOFFSETFROM:+0200
TZOFFSETTO:+0100
TZNAME:CET
DTSTART:20251026T010000
END:STANDARD
END:VTIMEZONE
BEGIN:VEVENT
DTSTART;TZID=Europe/Berlin:20250502T160000
DTEND;TZID=Europe/Berlin:20250502T200000
DTSTAMP:20260422T213730
CREATED:20250411T093544Z
LAST-MODIFIED:20250411T093544Z
UID:944-1746201600-1746216000@cute-community.com
SUMMARY:Cute Community Laboratory
DESCRIPTION:book your individual 90min slot to experiment\, rehearse and practice your DJing skills!
URL:https://cute-community.com/events/cute-community-laboratory-3/
LOCATION:Cute Community Space\, Hernerstr. 9\, Bochum\, NRW\, 44787\, Germany
CATEGORIES:Laboratory
ATTACH;FMTTYPE=image/png:https://cute-community.com/wp-content/uploads/2025/04/CCL_Web.png
ORGANIZER;CN="Cute Community":MAILTO:hello@cute-community.com
END:VEVENT
BEGIN:VEVENT
DTSTART;TZID=Europe/Berlin:20250425T160000
DTEND;TZID=Europe/Berlin:20250425T200000
DTSTAMP:20260422T213730
CREATED:20250411T093120Z
LAST-MODIFIED:20250411T093633Z
UID:940-1745596800-1745611200@cute-community.com
SUMMARY:Cute Community Laboratory
DESCRIPTION:book your individual 90min slot to experiment\, rehearse and practice your DJing skills!
URL:https://cute-community.com/events/cute-community-laboratory-2/
LOCATION:Cute Community Space\, Hernerstr. 9\, Bochum\, NRW\, 44787\, Germany
CATEGORIES:Laboratory
ATTACH;FMTTYPE=image/png:https://cute-community.com/wp-content/uploads/2025/04/CCL_Web.png
ORGANIZER;CN="Cute Community":MAILTO:hello@cute-community.com
END:VEVENT
BEGIN:VEVENT
DTSTART;TZID=Europe/Berlin:20250418T160000
DTEND;TZID=Europe/Berlin:20250418T200000
DTSTAMP:20260422T213730
CREATED:20250410T214625Z
LAST-MODIFIED:20250411T092643Z
UID:930-1744992000-1745006400@cute-community.com
SUMMARY:Cute Community Laboratory
DESCRIPTION:book your individual 90min slot to experiment\, rehearse and practice your DJing skills! \n\n\n\n\n\n\n\n\n 
URL:https://cute-community.com/events/cute-community-laboratory/
LOCATION:Cute Community Space\, Hernerstr. 9\, Bochum\, NRW\, 44787\, Germany
CATEGORIES:Laboratory
ATTACH;FMTTYPE=image/png:https://cute-community.com/wp-content/uploads/2025/04/CCL_Web.png
END:VEVENT
END:VCALENDAR