BEGIN:VCALENDAR
VERSION:2.0
PRODID:-//CuteCommunity - ECPv6.14.2//NONSGML v1.0//EN
CALSCALE:GREGORIAN
METHOD:PUBLISH
X-WR-CALNAME:CuteCommunity
X-ORIGINAL-URL:https://cute-community.com
X-WR-CALDESC:Events for CuteCommunity
REFRESH-INTERVAL;VALUE=DURATION:PT1H
X-Robots-Tag:noindex
X-PUBLISHED-TTL:PT1H
BEGIN:VTIMEZONE
TZID:Europe/Berlin
BEGIN:DAYLIGHT
TZOFFSETFROM:+0100
TZOFFSETTO:+0200
TZNAME:CEST
DTSTART:20250330T010000
END:DAYLIGHT
BEGIN:STANDARD
TZOFFSETFROM:+0200
TZOFFSETTO:+0100
TZNAME:CET
DTSTART:20251026T010000
END:STANDARD
END:VTIMEZONE
BEGIN:VEVENT
DTSTART;TZID=Europe/Berlin:20250220T190000
DTEND;TZID=Europe/Berlin:20250220T220000
DTSTAMP:20260426T015740
CREATED:20250220T213742Z
LAST-MODIFIED:20250404T204404Z
UID:825-1740078000-1740088800@cute-community.com
SUMMARY:Cute Community Radio
DESCRIPTION:7.00 – 8.00 PM | Miss Juss\n8.00 – 9.00 PM | Shamazing\n9.00 – 10.00PM | Vanta V Black
URL:https://cute-community.com/events/cute-community-radio-4/
LOCATION:NRW
CATEGORIES:DJ Set
ATTACH;FMTTYPE=image/jpeg:https://cute-community.com/wp-content/uploads/2025/04/250220_MissJuss_Shamazing_VantaVBlack_Feed_1-1.jpg
END:VEVENT
END:VCALENDAR