BEGIN:VCALENDAR
VERSION:2.0
PRODID:-//CuteCommunity - ECPv6.14.2//NONSGML v1.0//EN
CALSCALE:GREGORIAN
METHOD:PUBLISH
X-ORIGINAL-URL:https://cute-community.com
X-WR-CALDESC:Events for CuteCommunity
REFRESH-INTERVAL;VALUE=DURATION:PT1H
X-Robots-Tag:noindex
X-PUBLISHED-TTL:PT1H
BEGIN:VTIMEZONE
TZID:Europe/Berlin
BEGIN:DAYLIGHT
TZOFFSETFROM:+0100
TZOFFSETTO:+0200
TZNAME:CEST
DTSTART:20250330T010000
END:DAYLIGHT
BEGIN:STANDARD
TZOFFSETFROM:+0200
TZOFFSETTO:+0100
TZNAME:CET
DTSTART:20251026T010000
END:STANDARD
END:VTIMEZONE
BEGIN:VEVENT
DTSTART;TZID=Europe/Berlin:20250515T190000
DTEND;TZID=Europe/Berlin:20250515T220000
DTSTAMP:20260421T002636
CREATED:20250512T115454Z
LAST-MODIFIED:20250512T115536Z
UID:1099-1747335600-1747346400@cute-community.com
SUMMARY:Cute Community Radio
DESCRIPTION:7.00 – 8.00 PM | Gyn_Terre\n8.00 – 9.00 PM | Poulho\n9.00 – 10.00PM | Parissa Charghi
URL:https://cute-community.com/events/1099/
LOCATION:Cute Community Space\, Hernerstr. 9\, Bochum\, NRW\, 44787\, Germany
CATEGORIES:DJ Session
ATTACH;FMTTYPE=image/png:https://cute-community.com/wp-content/uploads/2025/05/CCR_Verlauf_2025_5-16-scaled.png
ORGANIZER;CN="Cute Community":MAILTO:hello@cute-community.com
END:VEVENT
END:VCALENDAR