BEGIN:VCALENDAR
VERSION:2.0
PRODID:-//CuteCommunity - ECPv6.14.2//NONSGML v1.0//EN
CALSCALE:GREGORIAN
METHOD:PUBLISH
X-ORIGINAL-URL:https://cute-community.com
X-WR-CALDESC:Events for CuteCommunity
REFRESH-INTERVAL;VALUE=DURATION:PT1H
X-Robots-Tag:noindex
X-PUBLISHED-TTL:PT1H
BEGIN:VTIMEZONE
TZID:Europe/Berlin
BEGIN:DAYLIGHT
TZOFFSETFROM:+0100
TZOFFSETTO:+0200
TZNAME:CEST
DTSTART:20250330T010000
END:DAYLIGHT
BEGIN:STANDARD
TZOFFSETFROM:+0200
TZOFFSETTO:+0100
TZNAME:CET
DTSTART:20251026T010000
END:STANDARD
END:VTIMEZONE
BEGIN:VEVENT
DTSTART;TZID=Europe/Berlin:20250815T180000
DTEND;TZID=Europe/Berlin:20250822T220000
DTSTAMP:20260426T042757
CREATED:20250830T074408Z
LAST-MODIFIED:20250830T074408Z
UID:1369-1755280800-1755900000@cute-community.com
SUMMARY:Cute Community Take Over by roki
DESCRIPTION:CUTE COMMUNITY TAKE OVER \nFrom August 15–22\, 2025\, our space at Cute Community Radio in Bochum will be taken over by roki Design. They’ll bring their newest product — to see\, connect with\, and take home right away. \n✨ And for a good cause: 20% of every product sold during the takeover will be donated to Save the Children for Gaza. \nOpening Party – August 15\nfrom 6 pm with roki Design & DJ Acts\nPhilipp Kleinhans • Meesha • Jay Ulrich \nClosing Party – August 22\nfrom 7 pm with DJ Acts\nKinan Halabi • Matildnz • A2ICE & BO3 \nOpening hours:\nFriday to Friday | 2–7 pm\n📍 Herner Str. 9\, 44787 Bochum \nCome by\, celebrate with us\, and explore roki’s latest object together at Cute Community Radio
URL:https://cute-community.com/events/cute-community-take-over-by-roki/
LOCATION:NRW
CATEGORIES:Take Over
ATTACH;FMTTYPE=image/png:https://cute-community.com/wp-content/uploads/2025/08/CCR_Takeover_web_ROKI.png
END:VEVENT
END:VCALENDAR